BEGIN:VCALENDAR
VERSION:2.0
PRODID:-//pretix//pretix.eu//
BEGIN:VTIMEZONE
TZID:Europe/Berlin
BEGIN:STANDARD
DTSTART:20001029T040000
RRULE:FREQ=YEARLY;BYDAY=-1SU;BYMONTH=10
TZNAME:CET
TZOFFSETFROM:+0200
TZOFFSETTO:+0100
END:STANDARD
BEGIN:DAYLIGHT
DTSTART:20000326T030000
RRULE:FREQ=YEARLY;BYDAY=-1SU;BYMONTH=3
TZNAME:CEST
TZOFFSETFROM:+0100
TZOFFSETTO:+0200
END:DAYLIGHT
END:VTIMEZONE
BEGIN:VEVENT
UID:pretix-tiv-karten-vorlage-std-0@tickets.dastiv.de
DTSTART;TZID=Europe/Berlin:20230701T000000
DTEND;TZID=Europe/Berlin:20230701T010000
DESCRIPTION:Tickets: https://tickets.dastiv.de/vorlage-std/\nVeranstalter: 
 Theater im Viertel-Studiotheater e. V.
DTSTAMP:20260419T141707Z
LOCATION:Theater im Viertel\, Saarbrücken
SUMMARY:VORLAGE Standard
END:VEVENT
END:VCALENDAR
